BEGIN:VCALENDAR
VERSION:2.0
PRODID:-//EZ Ride | New Jersey Shuttle Transportation - ECPv6.13.2.1//NONSGML v1.0//EN
CALSCALE:GREGORIAN
METHOD:PUBLISH
X-ORIGINAL-URL:https://ezride.org
X-WR-CALDESC:Events for EZ Ride | New Jersey Shuttle Transportation
REFRESH-INTERVAL;VALUE=DURATION:PT1H
X-Robots-Tag:noindex
X-PUBLISHED-TTL:PT1H
BEGIN:VTIMEZONE
TZID:America/New_York
BEGIN:DAYLIGHT
TZOFFSETFROM:-0500
TZOFFSETTO:-0400
TZNAME:EDT
DTSTART:20230312T070000
END:DAYLIGHT
BEGIN:STANDARD
TZOFFSETFROM:-0400
TZOFFSETTO:-0500
TZNAME:EST
DTSTART:20231105T060000
END:STANDARD
END:VTIMEZONE
BEGIN:VEVENT
DTSTART;TZID=America/New_York:20230927T120000
DTEND;TZID=America/New_York:20230927T140000
DTSTAMP:20260421T090138
CREATED:20230511T215205Z
LAST-MODIFIED:20231018T224331Z
UID:10000001-1695816000-1695823200@ezride.org
SUMMARY:2023 EZ Ride's Annual Recognition Event - Champions for Change\, September 27\, 2023
DESCRIPTION:We are pleased to announce our annual recognition event\, “Champions for Change\,” and cordially invite you to mark your calendar for this special occasion. This year we commemorate our organization’s 40th Anniversary; therefore\, the event holds extra significance for us and the celebrations should make it a truly memorable event for all attendees. \nWe will start at noon with lunch\, allowing us to meet and connect with fellow attendees\, followed by presentations from some of our Champions. Join us in honoring our unsung heroes and be inspired by the remarkable accomplishments of our awardees. These include Champions in our transportation programs and Safe Routes to School (SRTS) awards for our municipal and school partners. \nAGENDA: \n11:30 am – 12:30 pm Lunch\, Networking & Individual and Group Photos \n12:30 pm Welcome \n\nAvnish Gupta\, COO & General Counsel\, EZ Ride\n\n12:35 pm Opening Remarks \n\nPerry Frenzel\, Chairman\, EZ Ride\n\n12:40 pm Presentations & Awards \n\nDavit Topchishvili and Orestes Rios\, Bergen County\nSafe Route to School – Municipal Awards\nMayor Hector C. Lora\, City of Passaic\nSafe Route to School – School Awards\nDr. Richard D. Tomko\, Belleville Public Schools\n\n1:20 pm Special Awards \n\nChampions for Change Award\nFriends of EZ Ride Award\n\n1:30 pm Keynote Address \n\nRichard Fritzky & Richard Roberts\, Co-Founders\n\n1:50 pm Closing Remarks \n\nKrishna Murthy\, President & CEO\, EZ Ride\n\n  \n 
URL:https://ezride.org/event/2023-ez-rides-annual-recognition-event-champions-for-change/
LOCATION:Galloping Hill Golf Course\, 3 Golf Drive\, Kenilworth\, 07033\, United States
ORGANIZER;CN="EZ Ride":MAILTO:info@ezride.org
END:VEVENT
END:VCALENDAR