BEGIN:VCALENDAR
VERSION:2.0
PRODID:-//EZ Ride | New Jersey Shuttle Transportation - ECPv6.13.2.1//NONSGML v1.0//EN
CALSCALE:GREGORIAN
METHOD:PUBLISH
X-ORIGINAL-URL:https://ezride.org
X-WR-CALDESC:Events for EZ Ride | New Jersey Shuttle Transportation
REFRESH-INTERVAL;VALUE=DURATION:PT1H
X-Robots-Tag:noindex
X-PUBLISHED-TTL:PT1H
BEGIN:VTIMEZONE
TZID:America/New_York
BEGIN:DAYLIGHT
TZOFFSETFROM:-0500
TZOFFSETTO:-0400
TZNAME:EDT
DTSTART:20220313T070000
END:DAYLIGHT
BEGIN:STANDARD
TZOFFSETFROM:-0400
TZOFFSETTO:-0500
TZNAME:EST
DTSTART:20221106T060000
END:STANDARD
END:VTIMEZONE
BEGIN:VEVENT
DTSTART;TZID=America/New_York:20221207T120000
DTEND;TZID=America/New_York:20221207T140000
DTSTAMP:20260420T024650
CREATED:20221018T132455Z
LAST-MODIFIED:20231013T152232Z
UID:10000011-1670414400-1670421600@ezride.org
SUMMARY:2022 EZ Ride's Annual Recognition Event - Champions for Change
DESCRIPTION:Wednesday\, December 7\, 2022\n____________________________________________________ \nKeynote Speaker\n \nEleise Richards\, Community Engagement Strategist \nLyft Public Policy \n____________________________________________________________________________________ \nPlease mark your calendar for our annual recognition event\, “Champions for Change”. We will pay tribute to our unsung heroes and feature presentations from some of our awardees. Eleise Richards\, Community Engagement Strategist\, Lyft Public Policy\, will present the keynote address. \nThis in-person event will begin at noon with lunch followed by presentations. Please join us as we celebrate our 2022 award recipients. These include champions in our transportation programs and Safe Routes to School (SRTS) awards for our municipal and school partners. \nWe look forward to seeing you there! \nAgenda: \nNetworking Lunch \n\n12:00-12:30pm\n\nWelcome  \n\nAvnish Gupta\, COO & General Counsel\, EZ Ride\n\nOpening Remarks \n\nPerry Frenzel\, Chairman\, EZ Ride\n\nKeynote Address \n\nEleise Richards\, Community Strategist\, Lyft\n\nAwards \n\nOutstanding Transportation Program Awards\nOutstanding Transportation Partner Award\nNJ Safe Routes Awards\n\nPresentations \n\nJanelle Rivera\, Director\, Local Programs and Community Mobility – NJ Transit\nPeter Boynton\, Director – Affordable Housing Alliance\nAndre Sayegh\, Mayor – City of Paterson\nNicholas Norcia\, Superintendent – Fair Lawn School District\n\nClosing Remarks \n\nKrishna Murthy\, President & CEO\, EZ Ride
URL:https://ezride.org/event/2022-ez-rides-annual-recognition-event-champions-for-change/
LOCATION:Galloping Hill Golf Course\, 3 Golf Drive\, Kenilworth\, 07033\, United States
ORGANIZER;CN="EZ Ride":MAILTO:info@ezride.org
END:VEVENT
END:VCALENDAR